Workbook

Sheet General
B3: Delegation Clothing Declaration Form • 2027 EngGames
B8: Identification | G8: Expenses
B10: Name of the person responsible | G10: Total expenses
B11: Email address | G11: Cost of Clothing Item 1 | I11: Cost of Clothing Item 2
B12: University of the delegation | G12: Cost of Clothing Item 3 | I12: Cost of Clothing Item 4
G13: Cost of Clothing Item 5 | I13: Cost of Clothing Item 6
G14: Cost of Clothing Item 7 | I14: Cost of Clothing Item 8
B15: Evaluation Grid | G15: Cost of Clothing Item 9 | I15: Cost of Clothing Item 10
G16: Cost of Clothing Item 11 | I16: Cost of Clothing Item 12
G17: Cost of Clothing Item 13 | I17: Cost of Clothing Item 14
B18: Multiplication factor | G18: Cost of Clothing Item 15 | I18: Cost of Clothing Item 16
B20: Number of clothing items | D20: Multiplication factor *
B21: 16 clothing items or more | D21: 0
B22: 11–15 clothing items | D22: 1
B23: 6 - 10 clothing items | D23: 2
B24: 1-5 clothing items | D24: 3
B25: *Apply to the average of points obtained during the evaluation of delegation clothing items
B27: Evaluation for delegation clothing items
B29: Criteria | E29: Points per clothing item | H29: Explanation
B30: Has the clothing item already been worn?* | E30: Yes (9 pts) | F30: - | G30: No (0 pts) | H30: An clothing item that has already been worn is one that is not new: something you already owned but had not been using, something you obtained from a relative or friend, or something you purchased from a thrift store.
B31: *If you answered yes to this criterion, you do not need to complete the following sections
B32: Is this a recurring clothing item? | E32: Yes (1 pts) | F32: Partially (0.5 pts) | G32: No (0 pts) | H32: One point is awarded if the clothing item is reused from one edition to another, meaning it does not need to be repurchased every year. If the clothing item is used every year but must be repurchased only for new members who do not already own it, it receives 0.5 points. However, if the clothing item was specifically designed for this edition of the Engineering Games, no points are awarded.
B33: Is the clothing item versatile? | E33: Yes (1 pts) | F33: Partially (0.5 pts) | G33: No (0 pts) | H33: If your clothing item is versatile (1 point), it is an clothing item that can be worn in everyday life. A partially versatile clothing item can be worn in some contexts (e.g., festive parties, student events). A non-wearable clothing item (e.g., funky leggings) earns no points because it can only be worn in the context of the Engineering Games.
B34: Are the materials locally sourced? | E34: Yes (1 pts) | F34: Partially (0.5 pts) | G34: No (0 pts) | H34: In the context of this assessment, locally sourced materials extend to North America. If the material is locally sourced (1 pt), it will be specified. Otherwise, it is assumed that the materials are not locally sourced (0 pts). For a partial score (0.5 pt), some of the materials may be locally sourced.
B35: Are the materials ecologically responsible? | E35: Yes (1 pts) | F35: Partially (0.5 pts) | G35: No (0 pts) | H35: Eco-responsible materials include natural fibers (organic cotton, hemp, bamboo, flax), synthetic fibers (Tencel/Lyocell, Modal, viscose), as well as recycled fibers (recycled cotton, recycled PET, etc.). It is important to note that 100% of materials must be eco-responsible to obtain 1 point. If the clothing item is partially made of eco-responsible materials, it receives 0.5 points. If no eco-responsible material is used, no points are awarded.
B36: Is the clothing item locally manufactured? | E36: Yes (1 pts) | F36: Partially (0.5 pts) | G36: No (0 pts) | H36: A clothing item is considered locally manufactured if it is produced in Quebec or in neighboring provinces/states (Ontario, New Brunswick, Maine, Vermont, New Hampshire, New York) (1 pt), in the rest of Canada or the United States (0.5 pt), or in the rest of the world (0 pts).
B37: Is the clothing item’s customization done locally? | E37: Yes (1 pts) | F37: Partially (0.5 pts) | G37: No (0 pts) | H37: A clothing item is considered locally customized (1 point) if it is customized in Quebec or in neighboring provinces/states (Ontario, New Brunswick, Maine, Vermont, New Hampshire, New York) (1 pt), in the rest of Canada or the United States (0.5 pt), or in the rest of the world (0 pt).
B38: Is the clothing item distributed locally? | E38: Yes (1 pts) | F38: Partially (0.5 pts) | G38: No (0 pts) | H38: A item is considered locally distributed (1 point) if the distributor is located in Quebec or in neighboring provinces/states (Ontario, New Brunswick, Maine, Vermont, New Hampshire, New York) (1 pt), in the rest of Canada or the United States (0.5 pt), or in the rest of the world (0 pt).
B39: Does the clothing item have certifications? | E39: Yes (1 pts) | F39: - | G39: No (0 pts) | H39: A clothing item is considered certified if it meets environmental and social standards verified by an independent organization (for example: Fair Trade, GOTS, OEKO-TEX, B Corp, Carbon Neutral, etc.). By providing the product link, the organizing committee can verify the presence of these certifications. One point is awarded.

Sheet Form to fill out
A3: Delegation Clothing Declaration Form • 2027 EngGames
B9: Number of different clothing items
B12: Clothing item 1 | F12: Clothing item 2
B13: Type of clothing | F13: Type of clothing
B14: Quantity | F14: Quantity
B15: Reason | F15: Reason
B16: Main materials | F16: Main materials
B17: Link to the clothing item | F17: Link to the clothing item
B19: Has the clothing item already been worn?* | F19: Has the clothing item already been worn?*
B20: *If you answered yes to this criterion, you do not need to complete the following sections | F20: *If you answered yes to this criterion, you do not need to complete the following sections
B21: Is this a recurring clothing item? | F21: Is this a recurring clothing item?
B22: Is the clothing item versatile? | F22: Is the clothing item versatile?
B23: Are the materials locally sourced (N.A.)? | F23: Are the materials locally sourced (N.A.)?
B24: Are the materials ecologically responsible? | F24: Are the materials ecologically responsible?
... B28: Does the clothing item have certifications? | F28: Does the clothing item have certifications?
B29: Total points | C29: =(COUNTIF(C19,Listes!$C$2)*9)+(COUNTIF(C21:C28,Listes!$B$2))+(COUNTIF(C21:C28,Listes!$B$3)*0.5) -> 0 | F29: Total points | G29: =(COUNTIF(G19,Listes!$C$2)*9)+(COUNTIF(G21:G28,Listes!$B$2))+(COUNTIF(G21:G28,Listes!$B$3)*0.5) -> 0
B32: Clothing item 3 | F32: Clothing item 4
B33: Type of clothing | F33: Type of clothing
B34: Quantity | F34: Quantity
B35: Reason | F35: Reason
B36: Main materials | F36: Main materials
B37: Link to the clothing item | F37: Link to the clothing item
B39: Has the clothing item already been worn?* | F39: Has the clothing item already been worn?*
B40: *If you answered yes to this criterion, you do not need to complete the following sections | F40: *If you answered yes to this criterion, you do not need to complete the following sections
B41: Is this a recurring clothing item? | F41: Is this a recurring clothing item?
B42: Is the clothing item versatile? | F42: Is the clothing item versatile?
B43: Are the materials locally sourced (N.A.)? | F43: Are the materials locally sourced (N.A.)?
B44: Are the materials ecologically responsible? | F44: Are the materials ecologically responsible?
... B48: Does the clothing item have certifications? | F48: Does the clothing item have certifications?
B49: Total points | C49: =(COUNTIF(C39,Listes!$C$2)*9)+(COUNTIF(C41:C48,Listes!$B$2))+(COUNTIF(C41:C48,Listes!$B$3)*0.5) -> 0 | F49: Total points | G49: =(COUNTIF(G39,Listes!$C$2)*9)+(COUNTIF(G41:G48,Listes!$B$2))+(COUNTIF(G41:G48,Listes!$B$3)*0.5) -> 0
B52: Clothing item 5 | F52: Clothing item 6
B53: Type of clothing | F53: Type of clothing
B54: Quantity | F54: Quantity
B55: Reason | F55: Reason
B56: Main materials | F56: Main materials
B57: Link to the clothing item | F57: Link to the clothing item
B59: Has the clothing item already been worn?* | F59: Has the clothing item already been worn?*
B60: *If you answered yes to this criterion, you do not need to complete the following sections | F60: *If you answered yes to this criterion, you do not need to complete the following sections
B61: Is this a recurring clothing item? | F61: Is this a recurring clothing item?
B62: Is the clothing item versatile? | F62: Is the clothing item versatile?
B63: Are the materials locally sourced (N.A.)? | F63: Are the materials locally sourced (N.A.)?
B64: Are the materials ecologically responsible? | F64: Are the materials ecologically responsible?
... B68: Does the clothing item have certifications? | F68: Does the clothing item have certifications?
B69: Total points | C69: =(COUNTIF(C59,Listes!$C$2)*9)+(COUNTIF(C61:C68,Listes!$B$2))+(COUNTIF(C61:C68,Listes!$B$3)*0.5) -> 0 | F69: Total points | G69: =(COUNTIF(G59,Listes!$C$2)*9)+(COUNTIF(G61:G68,Listes!$B$2))+(COUNTIF(G61:G68,Listes!$B$3)*0.5) -> 0
B72: Clothing item 7 | F72: Clothing item 8
B73: Type of clothing | F73: Type of clothing
B74: Quantity | F74: Quantity
B75: Reason | F75: Reason
B76: Main materials | F76: Main materials
B77: Link to the clothing item | F77: Link to the clothing item
B79: Has the clothing item already been worn?* | F79: Has the clothing item already been worn?*
B80: *If you answered yes to this criterion, you do not need to complete the following sections | F80: *If you answered yes to this criterion, you do not need to complete the following sections
B81: Is this a recurring clothing item? | F81: Is this a recurring clothing item?
B82: Is the clothing item versatile? | F82: Is the clothing item versatile?
B83: Are the materials locally sourced (N.A.)? | F83: Are the materials locally sourced (N.A.)?
B84: Are the materials ecologically responsible? | F84: Are the materials ecologically responsible?
... B88: Does the clothing item have certifications? | F88: Does the clothing item have certifications?
B89: Total points | C89: =(COUNTIF(C79,Listes!$C$2)*9)+(COUNTIF(C81:C88,Listes!$B$2))+(COUNTIF(C81:C88,Listes!$B$3)*0.5) -> 0 | F89: Total points | G89: =(COUNTIF(G79,Listes!$C$2)*9)+(COUNTIF(G81:G88,Listes!$B$2))+(COUNTIF(G81:G88,Listes!$B$3)*0.5) -> 0
B92: Clothing item 9 | F92: Clothing item 10
B93: Type of clothing | F93: Type of clothing
B94: Quantity | F94: Quantity
B95: Reason | F95: Reason
B96: Main materials | F96: Main materials
B97: Link to the clothing item | F97: Link to the clothing item
B99: Has the clothing item already been worn?* | F99: Has the clothing item already been worn?*
B100: *If you answered yes to this criterion, you do not need to complete the following sections | F100: *If you answered yes to this criterion, you do not need to complete the following sections
B101: Is this a recurring clothing item? | F101: Is this a recurring clothing item?
B102: Is the clothing item versatile? | F102: Is the clothing item versatile?
B103: Are the materials locally sourced (N.A.)? | F103: Are the materials locally sourced (N.A.)?
B104: Are the materials ecologically responsible? | F104: Are the materials ecologically responsible?
... B108: Does the clothing item have certifications? | F108: Does the clothing item have certifications?
B109: Total points | C109: =(COUNTIF(C99,Listes!$C$2)*9)+(COUNTIF(C101:C108,Listes!$B$2))+(COUNTIF(C101:C108,Listes!$B$3)*0.5) -> 0 | F109: Total points | G109: =(COUNTIF(G99,Listes!$C$2)*9)+(COUNTIF(G101:G108,Listes!$B$2))+(COUNTIF(G101:G108,Listes!$B$3)*0.5) -> 0
B112: Clothing item 11 | F112: Clothing item 12
B113: Type of clothing | F113: Type of clothing
B114: Quantity | F114: Quantity
B115: Reason | F115: Reason
B116: Main materials | F116: Main materials
B117: Link to the clothing item | F117: Link to the clothing item
B119: Has the clothing item already been worn?* | F119: Has the clothing item already been worn?*
B120: *If you answered yes to this criterion, you do not need to complete the following sections | F120: *If you answered yes to this criterion, you do not need to complete the following sections
B121: Is this a recurring clothing item? | F121: Is this a recurring clothing item?
B122: Is the clothing item versatile? | F122: Is the clothing item versatile?
B123: Are the materials locally sourced (N.A.)? | F123: Are the materials locally sourced (N.A.)?
B124: Are the materials ecologically responsible? | F124: Are the materials ecologically responsible?
... B128: Does the clothing item have certifications? | F128: Does the clothing item have certifications?
B129: Total points | C129: =(COUNTIF(C119,Listes!$C$2)*9)+(COUNTIF(C121:C128,Listes!$B$2))+(COUNTIF(C121:C128,Listes!$B$3)*0.5) -> 0 | F129: Total points | G129: =(COUNTIF(G119,Listes!$C$2)*9)+(COUNTIF(G121:G128,Listes!$B$2))+(COUNTIF(G121:G128,Listes!$B$3)*0.5) -> 0
B132: Clothing item 13 | F132: Clothing item 14
B133: Type of clothing | F133: Type of clothing
B134: Quantity | F134: Quantity
B135: Reason | F135: Reason
B136: Main materials | F136: Main materials
B137: Link to the clothing item | F137: Link to the clothing item
B139: Has the clothing item already been worn?* | F139: Has the clothing item already been worn?*
B140: *If you answered yes to this criterion, you do not need to complete the following sections | F140: *If you answered yes to this criterion, you do not need to complete the following sections
B141: Is this a recurring clothing item? | F141: Is this a recurring clothing item?
B142: Is the clothing item versatile? | F142: Is the clothing item versatile?
B143: Are the materials locally sourced (N.A.)? | F143: Are the materials locally sourced (N.A.)?
B144: Are the materials ecologically responsible? | F144: Are the materials ecologically responsible?
... B148: Does the clothing item have certifications? | F148: Does the clothing item have certifications?
B149: Total points | C149: =(COUNTIF(C139,Listes!$C$2)*9)+(COUNTIF(C141:C148,Listes!$B$2))+(COUNTIF(C141:C148,Listes!$B$3)*0.5) -> 0 | F149: Total points | G149: =(COUNTIF(G139,Listes!$C$2)*9)+(COUNTIF(G141:G148,Listes!$B$2))+(COUNTIF(G141:G148,Listes!$B$3)*0.5) -> 0
...

Sheet Compilation
A3: Score compilation for the responsable purchasing assessment
B5: University | C5: =General!D12
B6: Number of clothing items | C6: ='Form to fill out'!C9
B7: Multiplication factor | C7: =IF(C6<=5,3,IF(C6<=10,2,IF(C6<=15,1,0))) -> 3
B9: Points
B10: Clothing 1 | C10: ='Form to fill out'!C29 -> 0
B11: Clothing 2 | C11: ='Form to fill out'!G29 -> 0
B12: Clothing 3 | C12: ='Form to fill out'!C49 -> 0
B13: Clothing 4 | C13: ='Form to fill out'!G49 -> 0
B14: Clothing 5 | C14: ='Form to fill out'!C69 -> 0
B15: Clothing 6 | C15: ='Form to fill out'!G69 -> 0
B16: Clothing 7 | C16: ='Form to fill out'!C89 -> 0
B17: Clothing 8 | C17: ='Form to fill out'!G89 -> 0
B18: Clothing 9 | C18: ='Form to fill out'!C109 -> 0
B19: Clothing 10 | C19: ='Form to fill out'!G109 -> 0
B20: Clothing 11 | C20: ='Form to fill out'!C129 -> 0
B21: Clothing 12 | C21: ='Form to fill out'!G129 -> 0
B22: Clothing 13 | C22: ='Form to fill out'!C149 -> 0
B23: Clothing 14 | C23: ='Form to fill out'!G149 -> 0
B24: Clothing 15 | C24: ='Form to fill out'!C169 -> 0
B25: Clothing 16 | C25: ='Form to fill out'!G169 -> 0
B26: Average | C26: =SUM(C10:C25)/C6 -> #DIV/0!
B27: Multiplication factor | C27: =C7 -> 3
B28: Total | C28: =C26*C27 -> #DIV/0!

Sheet Listes
A1: Clothing items | B1: Answers
A2: Short-sleeve shirt | B2: Yes(1 pts) | C2: Yes (9 pts)
A3: Long-sleeve shirt | B3: Partially (0.5 pts) | C3: No (0 pts)
A4: Sports shirt | B4: No (0 pts)
A5: Hoodie/jacket/cardigan
A6: Fleece
A7: Pants
A8: Sports pants
A9: Leggings
A10: Skirt
A11: Coat
A12: Tuque
A13: Hat
A14: Cap
A15: Socks
A16: Bandana
... A22: Shoes
